BEGIN:VCALENDAR
VERSION:2.0
PRODID:-//hacksw/handcal//NONSGML v1.0//EN
BEGIN:VEVENT
SUMMARY:Reservation - Camping - Challenge France 2 et 3 Mai 2026
UID:00c55cbe-3448-4dbf-822f-089ee3ebe2b3
DTSTART:20260502T070000Z
DTEND:20260503T150000Z
LOCATION:Localisation   
CATEGORIES:Sportif
STATUS:
URL;VALUE=URI:https://www.bcmv.fr/evenements/2026/05/02/reservation-camping-challenge-france-2-et-3-mai-2026-2424810
END:VEVENT
END:VCALENDAR
