BEGIN:VCALENDAR
VERSION:2.0
PRODID:-//hacksw/handcal//NONSGML v1.0//EN
BEGIN:VEVENT
SUMMARY:Reservation Cote de boeuf & frites pour 3 personnes
UID:d6606d3e-86d7-4e2c-9736-01359d5bf037
DTSTART:20260502T160000Z
DTEND:20260502T200000Z
LOCATION:Localisation   
CATEGORIES:Festif
STATUS:
DESCRIPTION:<p>A l’issue de cette premiere journee de competition,
 le club vous propose de cloturer la soiree autour d’une cote de
 bœuf accompagnee de frites.</p>
URL;VALUE=URI:https://www.bcmv.fr/evenements/2026/05/02/reservation-cote-de-boeuf-frites-pour-3-personnes-2430932
END:VEVENT
END:VCALENDAR
