BEGIN:VCALENDAR
VERSION:2.0
PRODID:-//hacksw/handcal//NONSGML v1.0//EN
BEGIN:VEVENT
SUMMARY:Reservation - Espaces Tentes - Challenge France 2 et 3 Mai 2026
UID:2be289ff-eee7-495e-8c60-57eb0e9b367e
DTSTART:20260501T220000Z
DTEND:20260503T220000Z
LOCATION:Localisation   
CATEGORIES:Sportif
STATUS:
URL;VALUE=URI:https://www.bcmv.fr/evenements/2026/05/02/reservation-espaces-tentes-challenge-france-2-et-3-mai-2026-2430909
END:VEVENT
END:VCALENDAR
